BEGIN:VCALENDAR
VERSION:2.0
PRODID:-//Cornerstone Assisted Living and Memory Care - ECPv6.15.20//NONSGML v1.0//EN
CALSCALE:GREGORIAN
METHOD:PUBLISH
X-WR-CALNAME:Cornerstone Assisted Living and Memory Care
X-ORIGINAL-URL:https://www.cornerstoneal.org
X-WR-CALDESC:Events for Cornerstone Assisted Living and Memory Care
REFRESH-INTERVAL;VALUE=DURATION:PT1H
X-Robots-Tag:noindex
X-PUBLISHED-TTL:PT1H
BEGIN:VTIMEZONE
TZID:America/Chicago
BEGIN:DAYLIGHT
TZOFFSETFROM:-0600
TZOFFSETTO:-0500
TZNAME:CDT
DTSTART:20240310T080000
END:DAYLIGHT
BEGIN:STANDARD
TZOFFSETFROM:-0500
TZOFFSETTO:-0600
TZNAME:CST
DTSTART:20241103T070000
END:STANDARD
BEGIN:DAYLIGHT
TZOFFSETFROM:-0600
TZOFFSETTO:-0500
TZNAME:CDT
DTSTART:20250309T080000
END:DAYLIGHT
BEGIN:STANDARD
TZOFFSETFROM:-0500
TZOFFSETTO:-0600
TZNAME:CST
DTSTART:20251102T070000
END:STANDARD
BEGIN:DAYLIGHT
TZOFFSETFROM:-0600
TZOFFSETTO:-0500
TZNAME:CDT
DTSTART:20260308T080000
END:DAYLIGHT
BEGIN:STANDARD
TZOFFSETFROM:-0500
TZOFFSETTO:-0600
TZNAME:CST
DTSTART:20261101T070000
END:STANDARD
END:VTIMEZONE
BEGIN:VEVENT
DTSTART;TZID=America/Chicago:20251216T140000
DTEND;TZID=America/Chicago:20251216T153000
DTSTAMP:20260422T175109
CREATED:20251001T142504Z
LAST-MODIFIED:20251017T181657Z
UID:10000030-1765893600-1765899000@www.cornerstoneal.org
SUMMARY:Sounds of the Season
DESCRIPTION:Sounds of The Season – Gary LaRue: Let the heartwarming holiday celebration begin with music and holiday treats \nDecember 16\, 2025 \n2:00 p.m. to 3:30 p.m. \nRSVP today!\nContact Teri Drake\nat 763-550-0333 or\nTeri.Drake@CassiaLife.org
URL:https://www.cornerstoneal.org/event/sounds-of-the-season/
LOCATION:Cornerstone Assisted Living\, 3750 Lawndale Lane North\, Plymouth\, MN\, 55446\, United States
ATTACH;FMTTYPE=image/jpeg:https://www.cornerstoneal.org/wp-content/uploads/sites/10/2025/10/Gary-Rat-Pack-web.jpg
END:VEVENT
END:VCALENDAR