BEGIN:VCALENDAR
VERSION:2.0
PRODID:-//Cornerstone Assisted Living and Memory Care - ECPv6.15.20//NONSGML v1.0//EN
CALSCALE:GREGORIAN
METHOD:PUBLISH
X-ORIGINAL-URL:https://www.cornerstoneal.org
X-WR-CALDESC:Events for Cornerstone Assisted Living and Memory Care
REFRESH-INTERVAL;VALUE=DURATION:PT1H
X-Robots-Tag:noindex
X-PUBLISHED-TTL:PT1H
BEGIN:VTIMEZONE
TZID:America/Chicago
BEGIN:DAYLIGHT
TZOFFSETFROM:-0600
TZOFFSETTO:-0500
TZNAME:CDT
DTSTART:20240310T080000
END:DAYLIGHT
BEGIN:STANDARD
TZOFFSETFROM:-0500
TZOFFSETTO:-0600
TZNAME:CST
DTSTART:20241103T070000
END:STANDARD
BEGIN:DAYLIGHT
TZOFFSETFROM:-0600
TZOFFSETTO:-0500
TZNAME:CDT
DTSTART:20250309T080000
END:DAYLIGHT
BEGIN:STANDARD
TZOFFSETFROM:-0500
TZOFFSETTO:-0600
TZNAME:CST
DTSTART:20251102T070000
END:STANDARD
BEGIN:DAYLIGHT
TZOFFSETFROM:-0600
TZOFFSETTO:-0500
TZNAME:CDT
DTSTART:20260308T080000
END:DAYLIGHT
BEGIN:STANDARD
TZOFFSETFROM:-0500
TZOFFSETTO:-0600
TZNAME:CST
DTSTART:20261101T070000
END:STANDARD
END:VTIMEZONE
BEGIN:VEVENT
DTSTART;TZID=America/Chicago:20251120T140000
DTEND;TZID=America/Chicago:20251120T153000
DTSTAMP:20260422T210519
CREATED:20251001T142652Z
LAST-MODIFIED:20251017T181317Z
UID:10000031-1763647200-1763652600@www.cornerstoneal.org
SUMMARY:Paint and Sip
DESCRIPTION:Art and wine\, perfect harmony! Join us for a guided paint event to explore your inner creativity. \nNovember 20\, 2025 \n2:00 p.m. to 3:30 p.m. \nRSVP today!\nContact Teri Drake\nat 763-550-0333 or\nTeri.Drake@CassiaLife.org
URL:https://www.cornerstoneal.org/event/paint-and-sip/
LOCATION:Cornerstone Assisted Living\, 3750 Lawndale Lane North\, Plymouth\, MN\, 55446\, United States
ATTACH;FMTTYPE=image/jpeg:https://www.cornerstoneal.org/wp-content/uploads/sites/10/2025/10/paint-and-sip-cst-2025.jpg
END:VEVENT
END:VCALENDAR